Package: zellkonverter Version: 1.16.0 Command: chmod a+r zellkonverter -R && F:\biocbuild\bbs-3.20-bioc\R\bin\R.exe CMD build --keep-empty-dirs --no-resave-data zellkonverter StartedAt: 2025-02-03 22:51:38 -0500 (Mon, 03 Feb 2025) EndedAt: 2025-02-03 22:53:56 -0500 (Mon, 03 Feb 2025) EllapsedTime: 138.6 seconds RetCode: 0 Status: OK PackageFile: zellkonverter_1.16.0.tar.gz PackageFileSize: 1.127 MiB