Package: zellkonverter Version: 1.16.0 Command: F:\biocbuild\bbs-3.20-bioc\R\bin\R.exe CMD check --no-multiarch --install=check:zellkonverter.install-out.txt --library=F:\biocbuild\bbs-3.20-bioc\R\library --no-vignettes --timings zellkonverter_1.16.0.tar.gz StartedAt: 2025-01-31 07:44:40 -0500 (Fri, 31 Jan 2025) EndedAt: 2025-01-31 07:56:33 -0500 (Fri, 31 Jan 2025) EllapsedTime: 712.5 seconds RetCode: 0 Status: OK CheckDir: zellkonverter.Rcheck Warnings: 0