Package: zellkonverter Version: 1.16.0 Command: /home/biocbuild/R/R/bin/R CMD build --keep-empty-dirs --no-resave-data zellkonverter StartedAt: 2025-01-31 03:30:56 -0000 (Fri, 31 Jan 2025) EndedAt: 2025-01-31 03:32:00 -0000 (Fri, 31 Jan 2025) EllapsedTime: 64.0 seconds RetCode: 0 Status: OK PackageFile: zellkonverter_1.16.0.tar.gz PackageFileSize: 1.192 MiB