Package: zellkonverter Version: 1.16.0 Command: /home/biocbuild/R/R/bin/R CMD check --install=check:zellkonverter.install-out.txt --library=/home/biocbuild/R/R/site-library --no-vignettes --timings zellkonverter_1.16.0.tar.gz StartedAt: 2025-01-31 11:32:23 -0000 (Fri, 31 Jan 2025) EndedAt: 2025-01-31 11:42:15 -0000 (Fri, 31 Jan 2025) EllapsedTime: 591.3 seconds RetCode: 1 Status: ERROR CheckDir: zellkonverter.Rcheck Warnings: NA