Package: zellkonverter Version: 1.16.0 Command: /home/biocbuild/R/R/bin/R CMD INSTALL zellkonverter StartedAt: 2025-02-03 20:32:44 -0000 (Mon, 03 Feb 2025) EndedAt: 2025-02-03 20:33:06 -0000 (Mon, 03 Feb 2025) EllapsedTime: 21.5 seconds RetCode: 0 Status: OK