Package: zenith Version: 1.8.0 Command: /Library/Frameworks/R.framework/Resources/bin/R CMD build --keep-empty-dirs --no-resave-data zenith StartedAt: 2025-01-31 10:24:17 -0500 (Fri, 31 Jan 2025) EndedAt: 2025-01-31 10:25:57 -0500 (Fri, 31 Jan 2025) EllapsedTime: 100.3 seconds RetCode: 0 Status: OK PackageFile: zenith_1.8.0.tar.gz PackageFileSize: 4.091 MiB