Package: zenith Version: 1.8.0 Command: /Library/Frameworks/R.framework/Resources/bin/R CMD build --keep-empty-dirs --no-resave-data zenith StartedAt: 2025-01-30 23:46:12 -0500 (Thu, 30 Jan 2025) EndedAt: 2025-01-30 23:48:46 -0500 (Thu, 30 Jan 2025) EllapsedTime: 153.9 seconds RetCode: 0 Status: OK PackageFile: zenith_1.8.0.tar.gz PackageFileSize: 4.091 MiB