Package: zenith Version: 1.8.0 Command: /Library/Frameworks/R.framework/Resources/bin/R CMD INSTALL zenith StartedAt: 2025-01-30 15:39:04 -0500 (Thu, 30 Jan 2025) EndedAt: 2025-01-30 15:40:45 -0500 (Thu, 30 Jan 2025) EllapsedTime: 101.3 seconds RetCode: 0 Status: OK