Package: zenith Version: 1.8.0 Command: F:\biocbuild\bbs-3.20-bioc\R\bin\R.exe CMD INSTALL zenith StartedAt: 2025-01-30 15:59:10 -0500 (Thu, 30 Jan 2025) EndedAt: 2025-01-30 16:00:08 -0500 (Thu, 30 Jan 2025) EllapsedTime: 58.2 seconds RetCode: 0 Status: OK