Package: zenith Version: 1.8.0 Command: /home/biocbuild/R/R/bin/R CMD INSTALL zenith StartedAt: 2025-01-30 20:27:17 -0000 (Thu, 30 Jan 2025) EndedAt: 2025-01-30 20:28:12 -0000 (Thu, 30 Jan 2025) EllapsedTime: 55.4 seconds RetCode: 0 Status: OK