Package: zinbwave Version: 1.28.0 Command: /Library/Frameworks/R.framework/Resources/bin/R CMD check --install=check:zinbwave.install-out.txt --library=/Library/Frameworks/R.framework/Resources/library --no-vignettes --timings zinbwave_1.28.0.tar.gz StartedAt: 2025-02-05 14:32:05 -0500 (Wed, 05 Feb 2025) EndedAt: 2025-02-05 14:37:46 -0500 (Wed, 05 Feb 2025) EllapsedTime: 340.8 seconds RetCode: 0 Status: OK CheckDir: zinbwave.Rcheck Warnings: 0