Package: zinbwave Version: 1.28.0 Command: /Library/Frameworks/R.framework/Resources/bin/R CMD INSTALL zinbwave StartedAt: 2025-02-10 17:27:20 -0500 (Mon, 10 Feb 2025) EndedAt: 2025-02-10 17:28:00 -0500 (Mon, 10 Feb 2025) EllapsedTime: 39.9 seconds RetCode: 0 Status: OK