Package: zinbwave Version: 1.28.0 Command: /Library/Frameworks/R.framework/Resources/bin/R CMD build --keep-empty-dirs --no-resave-data zinbwave StartedAt: 2025-02-03 23:16:01 -0500 (Mon, 03 Feb 2025) EndedAt: 2025-02-03 23:19:56 -0500 (Mon, 03 Feb 2025) EllapsedTime: 235.4 seconds RetCode: 0 Status: OK PackageFile: zinbwave_1.28.0.tar.gz PackageFileSize: 592.5 KiB