Package: zinbwave Version: 1.28.0 Command: /Library/Frameworks/R.framework/Resources/bin/R CMD check --install=check:zinbwave.install-out.txt --library=/Library/Frameworks/R.framework/Resources/library --no-vignettes --timings zinbwave_1.28.0.tar.gz StartedAt: 2025-02-04 12:01:32 -0500 (Tue, 04 Feb 2025) EndedAt: 2025-02-04 12:09:12 -0500 (Tue, 04 Feb 2025) EllapsedTime: 460.6 seconds RetCode: 0 Status: OK CheckDir: zinbwave.Rcheck Warnings: 0