Package: zinbwave Version: 1.28.0 Command: /Library/Frameworks/R.framework/Resources/bin/R CMD INSTALL zinbwave StartedAt: 2025-02-03 16:23:11 -0500 (Mon, 03 Feb 2025) EndedAt: 2025-02-03 16:24:24 -0500 (Mon, 03 Feb 2025) EllapsedTime: 72.4 seconds RetCode: 0 Status: OK