Package: zinbwave Version: 1.28.0 Command: /home/biocbuild/bbs-3.20-bioc/R/bin/R CMD build --keep-empty-dirs --no-resave-data --md5 zinbwave StartedAt: 2025-02-10 19:42:24 -0500 (Mon, 10 Feb 2025) EndedAt: 2025-02-10 19:44:20 -0500 (Mon, 10 Feb 2025) EllapsedTime: 116.3 seconds RetCode: 0 Status: OK PackageFile: zinbwave_1.28.0.tar.gz PackageFileSize: 490.7 KiB