Package: zinbwave Version: 1.28.0 Command: /home/biocbuild/bbs-3.20-bioc/R/bin/R CMD check --install=check:zinbwave.install-out.txt --library=/home/biocbuild/bbs-3.20-bioc/R/site-library --timings zinbwave_1.28.0.tar.gz StartedAt: 2025-02-04 03:39:34 -0500 (Tue, 04 Feb 2025) EndedAt: 2025-02-04 03:45:38 -0500 (Tue, 04 Feb 2025) EllapsedTime: 364.7 seconds RetCode: 0 Status: OK CheckDir: zinbwave.Rcheck Warnings: 0