Package: zinbwave Version: 1.28.0 Command: /home/biocbuild/bbs-3.20-bioc/R/bin/R CMD INSTALL zinbwave StartedAt: 2025-02-03 15:53:33 -0500 (Mon, 03 Feb 2025) EndedAt: 2025-02-03 15:54:08 -0500 (Mon, 03 Feb 2025) EllapsedTime: 35.2 seconds RetCode: 0 Status: OK