Package: zinbwave Version: 1.28.0 Command: rm -rf zinbwave.buildbin-libdir && mkdir zinbwave.buildbin-libdir && F:\biocbuild\bbs-3.20-bioc\R\bin\R.exe CMD INSTALL --build --library=zinbwave.buildbin-libdir zinbwave_1.28.0.tar.gz StartedAt: 2025-02-04 09:46:53 -0500 (Tue, 04 Feb 2025) EndedAt: 2025-02-04 09:47:49 -0500 (Tue, 04 Feb 2025) EllapsedTime: 56.3 seconds RetCode: 0 Status: OK PackageFile: zinbwave_1.28.0.zip PackageFileSize: 837.4 KiB