Package: zinbwave Version: 1.28.0 Command: chmod a+r zinbwave -R && F:\biocbuild\bbs-3.20-bioc\R\bin\R.exe CMD build --keep-empty-dirs --no-resave-data zinbwave StartedAt: 2025-02-03 22:52:17 -0500 (Mon, 03 Feb 2025) EndedAt: 2025-02-03 22:54:57 -0500 (Mon, 03 Feb 2025) EllapsedTime: 160.1 seconds RetCode: 0 Status: OK PackageFile: zinbwave_1.28.0.tar.gz PackageFileSize: 384.8 KiB