Package: zinbwave Version: 1.28.0 Command: F:\biocbuild\bbs-3.20-bioc\R\bin\R.exe CMD check --no-multiarch --install=check:zinbwave.install-out.txt --library=F:\biocbuild\bbs-3.20-bioc\R\library --no-vignettes --timings zinbwave_1.28.0.tar.gz StartedAt: 2025-02-04 07:35:10 -0500 (Tue, 04 Feb 2025) EndedAt: 2025-02-04 07:40:19 -0500 (Tue, 04 Feb 2025) EllapsedTime: 309.4 seconds RetCode: 0 Status: OK CheckDir: zinbwave.Rcheck Warnings: 0