Package: zinbwave Version: 1.28.0 Command: F:\biocbuild\bbs-3.20-bioc\R\bin\R.exe CMD INSTALL zinbwave StartedAt: 2025-02-03 16:42:01 -0500 (Mon, 03 Feb 2025) EndedAt: 2025-02-03 16:42:54 -0500 (Mon, 03 Feb 2025) EllapsedTime: 52.9 seconds RetCode: 0 Status: OK