Package: zinbwave Version: 1.28.0 Command: /home/biocbuild/R/R/bin/R CMD build --keep-empty-dirs --no-resave-data zinbwave StartedAt: 2025-02-04 03:56:37 -0000 (Tue, 04 Feb 2025) EndedAt: 2025-02-04 03:59:52 -0000 (Tue, 04 Feb 2025) EllapsedTime: 194.5 seconds RetCode: 0 Status: OK PackageFile: zinbwave_1.28.0.tar.gz PackageFileSize: 421.5 KiB