Package: zinbwave Version: 1.28.0 Command: /home/biocbuild/R/R/bin/R CMD INSTALL zinbwave StartedAt: 2025-02-03 21:07:55 -0000 (Mon, 03 Feb 2025) EndedAt: 2025-02-03 21:08:37 -0000 (Mon, 03 Feb 2025) EllapsedTime: 42.1 seconds RetCode: 0 Status: OK