Package: CRISPRball Version: 1.2.0 Command: /Library/Frameworks/R.framework/Resources/bin/R CMD check --test-dir=longtests --no-stop-on-test-error --no-codoc --no-examples --no-manual --ignore-vignettes --check-subdirs=no CRISPRball_1.2.0.tar.gz StartedAt: 2025-01-25 16:03:51 -0500 (Sat, 25 Jan 2025) EndedAt: 2025-01-25 16:16:40 -0500 (Sat, 25 Jan 2025) EllapsedTime: 769.2 seconds RetCode: 0 Status: OK CheckDir: CRISPRball.Rcheck Warnings: 0