Package: ChromSCape Version: 1.16.0 Command: /home/biocbuild/bbs-3.20-bioc/R/bin/R CMD check --test-dir=longtests --no-stop-on-test-error --no-codoc --no-examples --no-manual --ignore-vignettes --check-subdirs=no ChromSCape_1.16.0.tar.gz StartedAt: 2025-01-25 16:05:03 -0500 (Sat, 25 Jan 2025) EndedAt: 2025-01-25 16:11:04 -0500 (Sat, 25 Jan 2025) EllapsedTime: 360.3 seconds RetCode: 1 Status: ERROR CheckDir: ChromSCape.Rcheck Warnings: NA