Package: GenomicFeatures Version: 1.58.0 Command: /home/biocbuild/bbs-3.20-bioc/R/bin/R CMD check --test-dir=longtests --no-stop-on-test-error --no-codoc --no-examples --no-manual --ignore-vignettes --check-subdirs=no GenomicFeatures_1.58.0.tar.gz StartedAt: 2025-01-25 16:14:21 -0500 (Sat, 25 Jan 2025) EndedAt: 2025-01-25 16:17:18 -0500 (Sat, 25 Jan 2025) EllapsedTime: 177.1 seconds RetCode: 0 Status: WARNINGS CheckDir: GenomicFeatures.Rcheck Warnings: 1