Package: HDF5Array Version: 1.34.0 Command: /Library/Frameworks/R.framework/Resources/bin/R CMD check --test-dir=longtests --no-stop-on-test-error --no-codoc --no-examples --no-manual --ignore-vignettes --check-subdirs=no HDF5Array_1.34.0.tar.gz StartedAt: 2025-01-25 16:10:05 -0500 (Sat, 25 Jan 2025) EndedAt: 2025-01-25 16:31:44 -0500 (Sat, 25 Jan 2025) EllapsedTime: 1299.5 seconds RetCode: 0 Status: WARNINGS CheckDir: HDF5Array.Rcheck Warnings: 1