Package: MungeSumstats Version: 1.14.1 Command: /Library/Frameworks/R.framework/Resources/bin/R CMD check --test-dir=longtests --no-stop-on-test-error --no-codoc --no-examples --no-manual --ignore-vignettes --check-subdirs=no MungeSumstats_1.14.1.tar.gz StartedAt: 2024-11-16 16:26:03 -0500 (Sat, 16 Nov 2024) EndedAt: 2024-11-16 16:48:12 -0500 (Sat, 16 Nov 2024) EllapsedTime: 1329.3 seconds RetCode: 0 Status: OK CheckDir: MungeSumstats.Rcheck Warnings: 0