Package: MungeSumstats Version: 1.14.1 Command: /Library/Frameworks/R.framework/Resources/bin/R CMD check --test-dir=longtests --no-stop-on-test-error --no-codoc --no-examples --no-manual --ignore-vignettes --check-subdirs=no MungeSumstats_1.14.1.tar.gz StartedAt: 2025-01-25 16:11:36 -0500 (Sat, 25 Jan 2025) EndedAt: 2025-01-25 16:40:46 -0500 (Sat, 25 Jan 2025) EllapsedTime: 1749.7 seconds RetCode: 0 Status: OK CheckDir: MungeSumstats.Rcheck Warnings: 0