Package: TENxIO Version: 1.8.2 Command: F:\biocbuild\bbs-3.20-bioc\R\bin\R.exe CMD check --no-multiarch --test-dir=longtests --no-stop-on-test-error --no-codoc --no-examples --no-manual --ignore-vignettes --check-subdirs=no TENxIO_1.8.2.tar.gz StartedAt: 2025-01-25 16:19:33 -0500 (Sat, 25 Jan 2025) EndedAt: 2025-01-25 16:22:49 -0500 (Sat, 25 Jan 2025) EllapsedTime: 196.1 seconds RetCode: 0 Status: OK CheckDir: TENxIO.Rcheck Warnings: 0