Package: biodbExpasy Version: 1.9.0 Command: C:\Users\biocbuild\bbs-3.20-bioc\R\bin\R.exe CMD check --no-multiarch --test-dir=longtests --no-stop-on-test-error --no-codoc --no-examples --no-manual --ignore-vignettes --check-subdirs=no biodbExpasy_1.9.0.tar.gz StartedAt: 2024-07-06 16:02:22 -0400 (Sat, 06 Jul 2024) EndedAt: 2024-07-06 16:03:17 -0400 (Sat, 06 Jul 2024) EllapsedTime: 55.3 seconds RetCode: 1 Status: ERROR CheckDir: biodbExpasy.Rcheck Warnings: NA