Package: biodbNcbi Version: 1.10.0 Command: /Library/Frameworks/R.framework/Resources/bin/R CMD check --test-dir=longtests --no-stop-on-test-error --no-codoc --no-examples --no-manual --ignore-vignettes --check-subdirs=no biodbNcbi_1.10.0.tar.gz StartedAt: 2025-01-25 16:01:15 -0500 (Sat, 25 Jan 2025) EndedAt: 2025-01-25 16:03:51 -0500 (Sat, 25 Jan 2025) EllapsedTime: 156.3 seconds RetCode: 0 Status: WARNINGS CheckDir: biodbNcbi.Rcheck Warnings: 1