Package: crisprScore Version: 1.10.0 Command: /Library/Frameworks/R.framework/Resources/bin/R CMD check --test-dir=longtests --no-stop-on-test-error --no-codoc --no-examples --no-manual --ignore-vignettes --check-subdirs=no crisprScore_1.10.0.tar.gz StartedAt: 2025-01-25 16:04:54 -0500 (Sat, 25 Jan 2025) EndedAt: 2025-01-25 16:10:04 -0500 (Sat, 25 Jan 2025) EllapsedTime: 310.3 seconds RetCode: 0 Status: OK CheckDir: crisprScore.Rcheck Warnings: 0