Package: ginmappeR Version: 1.2.3 Command: F:\biocbuild\bbs-3.20-bioc\R\bin\R.exe CMD check --no-multiarch --test-dir=longtests --no-stop-on-test-error --no-codoc --no-examples --no-manual --ignore-vignettes --check-subdirs=no ginmappeR_1.2.3.tar.gz StartedAt: 2025-01-25 16:13:01 -0500 (Sat, 25 Jan 2025) EndedAt: 2025-01-25 16:18:06 -0500 (Sat, 25 Jan 2025) EllapsedTime: 304.9 seconds RetCode: 1 Status: ERROR CheckDir: ginmappeR.Rcheck Warnings: NA