Package: midasHLA Version: 1.14.0 Command: /Library/Frameworks/R.framework/Resources/bin/R CMD check --test-dir=longtests --no-stop-on-test-error --no-codoc --no-examples --no-manual --ignore-vignettes --check-subdirs=no midasHLA_1.14.0.tar.gz StartedAt: 2024-11-16 16:24:24 -0500 (Sat, 16 Nov 2024) EndedAt: 2024-11-16 16:30:20 -0500 (Sat, 16 Nov 2024) EllapsedTime: 356.0 seconds RetCode: 1 Status: ERROR CheckDir: midasHLA.Rcheck Warnings: NA