Package: midasHLA Version: 1.14.0 Command: /home/biocbuild/bbs-3.20-bioc/R/bin/R CMD check --test-dir=longtests --no-stop-on-test-error --no-codoc --no-examples --no-manual --ignore-vignettes --check-subdirs=no midasHLA_1.14.0.tar.gz StartedAt: 2025-01-25 16:17:18 -0500 (Sat, 25 Jan 2025) EndedAt: 2025-01-25 16:19:59 -0500 (Sat, 25 Jan 2025) EllapsedTime: 161.1 seconds RetCode: 1 Status: ERROR CheckDir: midasHLA.Rcheck Warnings: NA