Package: rhdf5 Version: 2.50.2 Command: F:\biocbuild\bbs-3.20-bioc\R\bin\R.exe CMD check --no-multiarch --test-dir=longtests --no-stop-on-test-error --no-codoc --no-examples --no-manual --ignore-vignettes --check-subdirs=no rhdf5_2.50.2.tar.gz StartedAt: 2025-01-25 16:18:07 -0500 (Sat, 25 Jan 2025) EndedAt: 2025-01-25 16:21:07 -0500 (Sat, 25 Jan 2025) EllapsedTime: 180.0 seconds RetCode: 0 Status: WARNINGS CheckDir: rhdf5.Rcheck Warnings: 1