Package: OHCA Version: 1.2.0 Command: rm -rf OHCA.book && mkdir OHCA.book && /home/biocbuild/BBS/utils/deploy_book.py OHCA_1.2.0.tar.gz OHCA.book StartedAt: 2025-02-12 08:34:34 -0500 (Wed, 12 Feb 2025) EndedAt: 2025-02-12 08:34:35 -0500 (Wed, 12 Feb 2025) EllapsedTime: 1.3 seconds RetCode: 0 Status: OK DeployDestDir: OHCA.book Warnings: 0