Back to Books build report for BioC 3.20

This page was generated on 2025-02-07 14:30 -0500 (Fri, 07 Feb 2025).

HostnameOSArch (*)R versionInstalled pkgs
nebbiolo2Linux (Ubuntu 24.04.1 LTS)x86_644.4.2 (2024-10-31) -- "Pile of Leaves" 4754
Click on any hostname to see more info about the system (e.g. compilers)      (*) as reported by 'uname -p', except on Windows and Mac OS X

All results for package OSCA.intro


To the developers/maintainers of the OSCA.intro package:
- Use the following Renviron settings to reproduce errors and warnings.
- If 'R CMD check' started to fail recently on the Linux builder(s) over a missing dependency, add the missing dependency to 'Suggests:' in your DESCRIPTION file. See Renviron.bioc for more information.

raw results

Package 7/10HostnameOS / ArchINSTALLBUILDCHECK
OSCA.intro 1.14.2  (landing page)
Ludwig Geistlinger
Snapshot Date: 2025-02-07 06:00 -0500 (Fri, 07 Feb 2025)
git_url: https://git.bioconductor.org/packages/OSCA.intro
git_branch: RELEASE_3_20
git_last_commit: df803df
git_last_commit_date: 2025-01-08 16:52:49 -0500 (Wed, 08 Jan 2025)
nebbiolo2Linux (Ubuntu 24.04.1 LTS) / x86_64  OK    OK    OK  UNNEEDED, same version is already published