Package: OSCA.multisample Version: 1.14.3 Command: /home/biocbuild/bbs-3.20-bioc/R/bin/R CMD INSTALL OSCA.multisample StartedAt: 2025-02-07 06:15:44 -0500 (Fri, 07 Feb 2025) EndedAt: 2025-02-07 06:16:08 -0500 (Fri, 07 Feb 2025) EllapsedTime: 24.3 seconds RetCode: 0 Status: OK