Package: AHCytoBands Version: 0.99.1 Command: /home/biocbuild/bbs-3.20-bioc/R/bin/R CMD INSTALL AHCytoBands StartedAt: 2025-02-05 06:30:07 -0500 (Wed, 05 Feb 2025) EndedAt: 2025-02-05 06:30:10 -0500 (Wed, 05 Feb 2025) EllapsedTime: 2.9 seconds RetCode: 0 Status: OK