Package: AlphaMissense.v2023.hg38 Version: 3.18.2 Command: /home/biocbuild/bbs-3.20-bioc/R/bin/R CMD check --install=check:AlphaMissense.v2023.hg38.install-out.txt --library=/home/biocbuild/bbs-3.20-bioc/R/site-library --timings AlphaMissense.v2023.hg38_3.18.2.tar.gz StartedAt: 2025-02-05 06:33:42 -0500 (Wed, 05 Feb 2025) EndedAt: 2025-02-05 06:35:21 -0500 (Wed, 05 Feb 2025) EllapsedTime: 98.7 seconds RetCode: 0 Status: OK CheckDir: AlphaMissense.v2023.hg38.Rcheck Warnings: 0