Package: BioMartGOGeneSets Version: 0.99.11 Command: /home/biocbuild/bbs-3.20-bioc/R/bin/R CMD build --keep-empty-dirs --no-resave-data BioMartGOGeneSets StartedAt: 2025-02-05 06:31:09 -0500 (Wed, 05 Feb 2025) EndedAt: 2025-02-05 06:32:50 -0500 (Wed, 05 Feb 2025) EllapsedTime: 100.9 seconds RetCode: 0 Status: OK PackageFile: BioMartGOGeneSets_0.99.11.tar.gz PackageFileSize: 819.3 KiB