Package: BioMartGOGeneSets Version: 0.99.11 Command: /home/biocbuild/bbs-3.20-bioc/R/bin/R CMD check --install=check:BioMartGOGeneSets.install-out.txt --library=/home/biocbuild/bbs-3.20-bioc/R/site-library --timings BioMartGOGeneSets_0.99.11.tar.gz StartedAt: 2025-02-05 06:33:42 -0500 (Wed, 05 Feb 2025) EndedAt: 2025-02-05 06:36:09 -0500 (Wed, 05 Feb 2025) EllapsedTime: 146.6 seconds RetCode: 0 Status: OK CheckDir: BioMartGOGeneSets.Rcheck Warnings: 0