Package: BioMartGOGeneSets Version: 0.99.11 Command: /home/biocbuild/bbs-3.20-bioc/R/bin/R CMD INSTALL BioMartGOGeneSets StartedAt: 2025-02-05 06:30:07 -0500 (Wed, 05 Feb 2025) EndedAt: 2025-02-05 06:30:16 -0500 (Wed, 05 Feb 2025) EllapsedTime: 8.6 seconds RetCode: 0 Status: OK