Package: EpiTxDb.Hs.hg38 Version: 0.99.7 Command: /home/biocbuild/bbs-3.20-bioc/R/bin/R CMD INSTALL EpiTxDb.Hs.hg38 StartedAt: 2025-02-12 06:30:28 -0500 (Wed, 12 Feb 2025) EndedAt: 2025-02-12 06:31:11 -0500 (Wed, 12 Feb 2025) EllapsedTime: 42.6 seconds RetCode: 0 Status: OK