Package: JASPAR2020 Version: 0.99.8 Command: /home/biocbuild/bbs-3.20-bioc/R/bin/R CMD check --install=check:JASPAR2020.install-out.txt --library=/home/biocbuild/bbs-3.20-bioc/R/site-library --timings JASPAR2020_0.99.8.tar.gz StartedAt: 2025-02-05 06:34:19 -0500 (Wed, 05 Feb 2025) EndedAt: 2025-02-05 06:34:54 -0500 (Wed, 05 Feb 2025) EllapsedTime: 35.0 seconds RetCode: 1 Status: ERROR CheckDir: JASPAR2020.Rcheck Warnings: NA