Package: PANTHER.db Version: 1.0.12 Command: /home/biocbuild/bbs-3.20-bioc/R/bin/R CMD build --keep-empty-dirs --no-resave-data PANTHER.db StartedAt: 2025-02-05 06:32:20 -0500 (Wed, 05 Feb 2025) EndedAt: 2025-02-05 06:32:56 -0500 (Wed, 05 Feb 2025) EllapsedTime: 36.4 seconds RetCode: 0 Status: OK PackageFile: PANTHER.db_1.0.12.tar.gz PackageFileSize: 317.6 KiB