Package: PANTHER.db Version: 1.0.12 Command: /home/biocbuild/bbs-3.20-bioc/R/bin/R CMD INSTALL PANTHER.db StartedAt: 2025-02-05 06:30:20 -0500 (Wed, 05 Feb 2025) EndedAt: 2025-02-05 06:30:39 -0500 (Wed, 05 Feb 2025) EllapsedTime: 18.7 seconds RetCode: 0 Status: OK